BEGIN:VCALENDAR
VERSION:2.0
PRODID:-//phil.firespring.org//NONSGML kigkonsult.se iCalcreator 2.30.10//
CALSCALE:GREGORIAN
METHOD:PUBLISH
UID:1b510d60-e1fa-46ba-a20b-1f58f6abd762
X-WR-CALDESC:Please bring drinking water
X-WR-RELCALID:88e65bc0aa5d8a32ccb1ce4a4f4de18e
X-WR-TIMEZONE:America/Chicago
BEGIN:VTIMEZONE
TZID:America/Chicago
BEGIN:STANDARD
TZNAME:CST
DTSTART:20211107T020000
TZOFFSETFROM:-0500
TZOFFSETTO:-0600
RDATE:20221106T020000
END:STANDARD
BEGIN:DAYLIGHT
TZNAME:CDT
DTSTART:20210314T020000
TZOFFSETFROM:-0600
TZOFFSETTO:-0500
RDATE:20220313T020000
RDATE:20230312T020000
END:DAYLIGHT
END:VTIMEZONE
BEGIN:VEVENT
UID:b84dc13e-c400-4f64-8165-19b079aa1c68
DTSTAMP:20260422T233122Z
DESCRIPTION:Please bring drinking water
DTSTART;TZID=America/Chicago:20211125T160000
DTEND;TZID=America/Chicago:20211125T170000
LOCATION:Firespring
SUMMARY:Walking Group
END:VEVENT
END:VCALENDAR
