BEGIN:VCALENDAR
VERSION:2.0
PRODID:-//phil.firespring.org//NONSGML kigkonsult.se iCalcreator 2.30.10//
CALSCALE:GREGORIAN
METHOD:PUBLISH
UID:19ca0784-ad47-4cda-88e4-3e2a2f1b6974
X-WR-CALDESC:
X-WR-RELCALID:8d466c10ff1dda23b34b058f1e71a16d
X-WR-TIMEZONE:America/Chicago
BEGIN:VTIMEZONE
TZID:America/Chicago
BEGIN:STANDARD
TZNAME:CST
DTSTART:20211107T020000
TZOFFSETFROM:-0500
TZOFFSETTO:-0600
RDATE:20221106T020000
END:STANDARD
BEGIN:DAYLIGHT
TZNAME:CDT
DTSTART:20210314T020000
TZOFFSETFROM:-0600
TZOFFSETTO:-0500
RDATE:20220313T020000
RDATE:20230312T020000
END:DAYLIGHT
END:VTIMEZONE
BEGIN:VEVENT
UID:b74abd53-6339-4ba3-8a86-3dd4c1618e74
DTSTAMP:20260422T233033Z
DESCRIPTION:
DTSTART;TZID=America/Chicago:20211130T143000
DTEND;TZID=America/Chicago:20211130T153000
LOCATION:
SUMMARY:Holiday Gala
END:VEVENT
END:VCALENDAR
