BEGIN:VCALENDAR
VERSION:2.0
PRODID:-//phil.firespring.org//NONSGML kigkonsult.se iCalcreator 2.30.10//
CALSCALE:GREGORIAN
METHOD:PUBLISH
UID:7ff5db26-64d8-4da4-b38a-5dda96efd92f
X-WR-CALDESC:Please bring drinking water
X-WR-RELCALID:2db969ccf09fb0d8987cdd69ad0ced00
X-WR-TIMEZONE:America/Chicago
BEGIN:VTIMEZONE
TZID:America/Chicago
BEGIN:STANDARD
TZNAME:CST
DTSTART:20211107T020000
TZOFFSETFROM:-0500
TZOFFSETTO:-0600
RDATE:20221106T020000
END:STANDARD
BEGIN:DAYLIGHT
TZNAME:CDT
DTSTART:20210314T020000
TZOFFSETFROM:-0600
TZOFFSETTO:-0500
RDATE:20220313T020000
RDATE:20230312T020000
END:DAYLIGHT
END:VTIMEZONE
BEGIN:VEVENT
UID:5a5f55f0-f4cd-4c23-96f2-75a3f53e00ad
DTSTAMP:20260422T221735Z
DESCRIPTION:Please bring drinking water
DTSTART;TZID=America/Chicago:20211230T160000
DTEND;TZID=America/Chicago:20211230T170000
LOCATION:Firespring
SUMMARY:Walking Group
END:VEVENT
END:VCALENDAR
