BEGIN:VCALENDAR
VERSION:2.0
PRODID:-//phil.firespring.org//NONSGML kigkonsult.se iCalcreator 2.30.10//
CALSCALE:GREGORIAN
METHOD:PUBLISH
UID:341f265c-3f83-4947-a59f-6d0d641c45c2
X-WR-CALDESC:Please bring drinking water
X-WR-RELCALID:f50ce7bd10b49e77d517d9ad07b5f838
X-WR-TIMEZONE:America/Chicago
BEGIN:VTIMEZONE
TZID:America/Chicago
BEGIN:STANDARD
TZNAME:CST
DTSTART:20211107T020000
TZOFFSETFROM:-0500
TZOFFSETTO:-0600
RDATE:20221106T020000
END:STANDARD
BEGIN:DAYLIGHT
TZNAME:CDT
DTSTART:20210314T020000
TZOFFSETFROM:-0600
TZOFFSETTO:-0500
RDATE:20220313T020000
RDATE:20230312T020000
END:DAYLIGHT
END:VTIMEZONE
BEGIN:VEVENT
UID:13926873-3758-42ff-8229-bf883089faa8
DTSTAMP:20260422T203214Z
DESCRIPTION:Please bring drinking water
DTSTART;TZID=America/Chicago:20220106T160000
DTEND;TZID=America/Chicago:20220106T170000
LOCATION:Firespring
SUMMARY:Walking Group
END:VEVENT
END:VCALENDAR
