BEGIN:VCALENDAR
VERSION:2.0
PRODID:-//phil.firespring.org//NONSGML kigkonsult.se iCalcreator 2.30.10//
CALSCALE:GREGORIAN
METHOD:PUBLISH
UID:f7f49b0d-f043-4900-8263-b83c06ea201f
X-WR-CALDESC:Please bring drinking water
X-WR-RELCALID:d55fe11ed31aa802b17693a284f38d18
X-WR-TIMEZONE:America/Chicago
BEGIN:VTIMEZONE
TZID:America/Chicago
BEGIN:STANDARD
TZNAME:CST
DTSTART:20211107T020000
TZOFFSETFROM:-0500
TZOFFSETTO:-0600
RDATE:20221106T020000
END:STANDARD
BEGIN:DAYLIGHT
TZNAME:CDT
DTSTART:20210314T020000
TZOFFSETFROM:-0600
TZOFFSETTO:-0500
RDATE:20220313T020000
RDATE:20230312T020000
END:DAYLIGHT
END:VTIMEZONE
BEGIN:VEVENT
UID:c0016b1f-fb6a-42df-ab74-7a71a4e47182
DTSTAMP:20260422T203246Z
DESCRIPTION:Please bring drinking water
DTSTART;TZID=America/Chicago:20220113T160000
DTEND;TZID=America/Chicago:20220113T170000
LOCATION:Firespring
SUMMARY:Walking Group
END:VEVENT
END:VCALENDAR
