BEGIN:VCALENDAR
VERSION:2.0
PRODID:-//phil.firespring.org//NONSGML kigkonsult.se iCalcreator 2.30.10//
CALSCALE:GREGORIAN
METHOD:PUBLISH
UID:7d58382a-a9b6-444d-9057-b2c9605c2bf9
X-WR-CALDESC:Please bring drinking water
X-WR-RELCALID:f359d8c36d2a0318024809931da0550e
X-WR-TIMEZONE:America/Chicago
BEGIN:VTIMEZONE
TZID:America/Chicago
BEGIN:STANDARD
TZNAME:CST
DTSTART:20211107T020000
TZOFFSETFROM:-0500
TZOFFSETTO:-0600
RDATE:20221106T020000
END:STANDARD
BEGIN:DAYLIGHT
TZNAME:CDT
DTSTART:20210314T020000
TZOFFSETFROM:-0600
TZOFFSETTO:-0500
RDATE:20220313T020000
RDATE:20230312T020000
END:DAYLIGHT
END:VTIMEZONE
BEGIN:VEVENT
UID:d408da76-9ff4-4c8b-b07d-38d71f0b794f
DTSTAMP:20260422T205634Z
DESCRIPTION:Please bring drinking water
DTSTART;TZID=America/Chicago:20220127T160000
DTEND;TZID=America/Chicago:20220127T170000
LOCATION:Firespring
SUMMARY:Walking Group
END:VEVENT
END:VCALENDAR
