BEGIN:VCALENDAR
VERSION:2.0
PRODID:-//phil.firespring.org//NONSGML kigkonsult.se iCalcreator 2.30.10//
CALSCALE:GREGORIAN
METHOD:PUBLISH
UID:a2807163-28b8-4518-8e60-b0175dac65f8
X-WR-CALDESC:Please bring drinking water
X-WR-RELCALID:d5490e24fa9256b550325fad4f849e47
X-WR-TIMEZONE:America/Chicago
BEGIN:VTIMEZONE
TZID:America/Chicago
BEGIN:STANDARD
TZNAME:CST
DTSTART:20211107T020000
TZOFFSETFROM:-0500
TZOFFSETTO:-0600
RDATE:20221106T020000
END:STANDARD
BEGIN:DAYLIGHT
TZNAME:CDT
DTSTART:20210314T020000
TZOFFSETFROM:-0600
TZOFFSETTO:-0500
RDATE:20220313T020000
RDATE:20230312T020000
END:DAYLIGHT
END:VTIMEZONE
BEGIN:VEVENT
UID:03c764a6-b563-46f0-98a9-2c1c4224e84d
DTSTAMP:20260422T191452Z
DESCRIPTION:Please bring drinking water
DTSTART;TZID=America/Chicago:20220210T160000
DTEND;TZID=America/Chicago:20220210T170000
LOCATION:Firespring
SUMMARY:Walking Group
END:VEVENT
END:VCALENDAR
