BEGIN:VCALENDAR
VERSION:2.0
PRODID:-//phil.firespring.org//NONSGML kigkonsult.se iCalcreator 2.30.10//
CALSCALE:GREGORIAN
METHOD:PUBLISH
UID:2af7f328-f962-43a1-8f28-1b667091622a
X-WR-CALDESC:Please bring drinking water
X-WR-RELCALID:d502319f74d668fe1c11e17e5bcf5e70
X-WR-TIMEZONE:America/Chicago
BEGIN:VTIMEZONE
TZID:America/Chicago
BEGIN:STANDARD
TZNAME:CST
DTSTART:20211107T020000
TZOFFSETFROM:-0500
TZOFFSETTO:-0600
RDATE:20221106T020000
END:STANDARD
BEGIN:DAYLIGHT
TZNAME:CDT
DTSTART:20210314T020000
TZOFFSETFROM:-0600
TZOFFSETTO:-0500
RDATE:20220313T020000
RDATE:20230312T020000
END:DAYLIGHT
END:VTIMEZONE
BEGIN:VEVENT
UID:66b41595-b401-4e35-8942-1b3fec9f4f8a
DTSTAMP:20260422T174145Z
DESCRIPTION:Please bring drinking water
DTSTART;TZID=America/Chicago:20220310T160000
DTEND;TZID=America/Chicago:20220310T170000
LOCATION:Firespring
SUMMARY:Walking Group
END:VEVENT
END:VCALENDAR
