BEGIN:VCALENDAR
VERSION:2.0
PRODID:-//phil.firespring.org//NONSGML kigkonsult.se iCalcreator 2.30.10//
CALSCALE:GREGORIAN
METHOD:PUBLISH
UID:1d5f72e9-6ec6-41d9-9195-cf879e9dea5d
X-WR-CALDESC:Please bring drinking water
X-WR-RELCALID:560ad78e9d0c5e5c80b04dd4e320f5c7
X-WR-TIMEZONE:America/Chicago
BEGIN:VTIMEZONE
TZID:America/Chicago
BEGIN:STANDARD
TZNAME:CST
DTSTART:20211107T020000
TZOFFSETFROM:-0500
TZOFFSETTO:-0600
RDATE:20221106T020000
END:STANDARD
BEGIN:DAYLIGHT
TZNAME:CDT
DTSTART:20220313T020000
TZOFFSETFROM:-0600
TZOFFSETTO:-0500
RDATE:20230312T020000
END:DAYLIGHT
END:VTIMEZONE
BEGIN:VEVENT
UID:e04893e8-6e25-4918-b96f-639351823cfd
DTSTAMP:20260422T174146Z
DESCRIPTION:Please bring drinking water
DTSTART;TZID=America/Chicago:20220331T160000
DTEND;TZID=America/Chicago:20220331T170000
LOCATION:Firespring
SUMMARY:Walking Group
END:VEVENT
END:VCALENDAR
