BEGIN:VCALENDAR
VERSION:2.0
PRODID:-//phil.firespring.org//NONSGML kigkonsult.se iCalcreator 2.30.10//
CALSCALE:GREGORIAN
METHOD:PUBLISH
UID:b53fad91-f968-4aa9-beb0-d741dca06ee1
X-WR-CALDESC:asdfa
X-WR-RELCALID:f059154443335c78f1dfa501588e10e8
X-WR-TIMEZONE:America/Chicago
BEGIN:VTIMEZONE
TZID:America/Chicago
BEGIN:STANDARD
TZNAME:CST
DTSTART:20211107T020000
TZOFFSETFROM:-0500
TZOFFSETTO:-0600
RDATE:20221106T020000
END:STANDARD
BEGIN:DAYLIGHT
TZNAME:CDT
DTSTART:20220313T020000
TZOFFSETFROM:-0600
TZOFFSETTO:-0500
RDATE:20230312T020000
END:DAYLIGHT
END:VTIMEZONE
BEGIN:VEVENT
UID:bab8726b-05a7-47a8-9b31-a2531a3c2e42
DTSTAMP:20260422T145110Z
DESCRIPTION:asdfa
DTSTART;TZID=America/Chicago:20220503T150000
DTEND;TZID=America/Chicago:20220503T160000
LOCATION:
SUMMARY:My New event
END:VEVENT
END:VCALENDAR
