BEGIN:VCALENDAR
VERSION:2.0
PRODID:-//phil.firespring.org//NONSGML kigkonsult.se iCalcreator 2.30.10//
CALSCALE:GREGORIAN
METHOD:PUBLISH
UID:7d0048d2-39fb-4617-897a-36748c684def
X-WR-CALDESC:Please bring drinking water
X-WR-RELCALID:06fdeebe8c44f91cd870d0c2442faee0
X-WR-TIMEZONE:America/Chicago
BEGIN:VTIMEZONE
TZID:America/Chicago
BEGIN:STANDARD
TZNAME:CST
DTSTART:20211107T020000
TZOFFSETFROM:-0500
TZOFFSETTO:-0600
RDATE:20221106T020000
RDATE:20231105T020000
END:STANDARD
BEGIN:DAYLIGHT
TZNAME:CDT
DTSTART:20220313T020000
TZOFFSETFROM:-0600
TZOFFSETTO:-0500
RDATE:20230312T020000
END:DAYLIGHT
END:VTIMEZONE
BEGIN:VEVENT
UID:716d5abe-003c-47e1-9d6b-b6c599a1e7e9
DTSTAMP:20260422T145247Z
DESCRIPTION:Please bring drinking water
DTSTART;TZID=America/Chicago:20220512T160000
DTEND;TZID=America/Chicago:20220512T170000
LOCATION:Firespring
SUMMARY:Walking Group
END:VEVENT
END:VCALENDAR
