BEGIN:VCALENDAR
VERSION:2.0
PRODID:-//phil.firespring.org//NONSGML kigkonsult.se iCalcreator 2.30.10//
CALSCALE:GREGORIAN
METHOD:PUBLISH
UID:863b3610-52fc-4151-882f-a46950833f8f
X-WR-CALDESC:Please bring drinking water
X-WR-RELCALID:f085d584fb88b0a414a981393b6bbc69
X-WR-TIMEZONE:America/Chicago
BEGIN:VTIMEZONE
TZID:America/Chicago
BEGIN:STANDARD
TZNAME:CST
DTSTART:20211107T020000
TZOFFSETFROM:-0500
TZOFFSETTO:-0600
RDATE:20221106T020000
RDATE:20231105T020000
END:STANDARD
BEGIN:DAYLIGHT
TZNAME:CDT
DTSTART:20220313T020000
TZOFFSETFROM:-0600
TZOFFSETTO:-0500
RDATE:20230312T020000
END:DAYLIGHT
END:VTIMEZONE
BEGIN:VEVENT
UID:2bfdd1cd-3aa0-4e3b-9984-811dc9be3dfe
DTSTAMP:20260422T145211Z
DESCRIPTION:Please bring drinking water
DTSTART;TZID=America/Chicago:20220526T160000
DTEND;TZID=America/Chicago:20220526T170000
LOCATION:Firespring
SUMMARY:Walking Group
END:VEVENT
END:VCALENDAR
