BEGIN:VCALENDAR
VERSION:2.0
PRODID:-//phil.firespring.org//NONSGML kigkonsult.se iCalcreator 2.30.10//
CALSCALE:GREGORIAN
METHOD:PUBLISH
UID:df38f0cb-5eea-4530-b179-0f802363ed32
X-WR-CALDESC:Please bring drinking water
X-WR-RELCALID:bf8a402b4d662d8da7a937350cdc2621
X-WR-TIMEZONE:America/Chicago
BEGIN:VTIMEZONE
TZID:America/Chicago
BEGIN:STANDARD
TZNAME:CST
DTSTART:20211107T020000
TZOFFSETFROM:-0500
TZOFFSETTO:-0600
RDATE:20221106T020000
RDATE:20231105T020000
END:STANDARD
BEGIN:DAYLIGHT
TZNAME:CDT
DTSTART:20220313T020000
TZOFFSETFROM:-0600
TZOFFSETTO:-0500
RDATE:20230312T020000
END:DAYLIGHT
END:VTIMEZONE
BEGIN:VEVENT
UID:dea2f533-4be9-4b09-9953-5955729fb580
DTSTAMP:20260422T130852Z
DESCRIPTION:Please bring drinking water
DTSTART;TZID=America/Chicago:20220623T160000
DTEND;TZID=America/Chicago:20220623T170000
LOCATION:Firespring
SUMMARY:Walking Group
END:VEVENT
END:VCALENDAR
