BEGIN:VCALENDAR
VERSION:2.0
PRODID:-//phil.firespring.org//NONSGML kigkonsult.se iCalcreator 2.30.10//
CALSCALE:GREGORIAN
METHOD:PUBLISH
UID:bc59474c-445f-4f42-a2c2-7b420aaa50de
X-WR-CALDESC:Please bring drinking water
X-WR-RELCALID:000b3a86962fb2e606a0cac66a2fe457
X-WR-TIMEZONE:America/Chicago
BEGIN:VTIMEZONE
TZID:America/Chicago
BEGIN:STANDARD
TZNAME:CST
DTSTART:20211107T020000
TZOFFSETFROM:-0500
TZOFFSETTO:-0600
RDATE:20221106T020000
RDATE:20231105T020000
END:STANDARD
BEGIN:DAYLIGHT
TZNAME:CDT
DTSTART:20220313T020000
TZOFFSETFROM:-0600
TZOFFSETTO:-0500
RDATE:20230312T020000
END:DAYLIGHT
END:VTIMEZONE
BEGIN:VEVENT
UID:2be44e69-6124-4f5a-a8dc-fb9be9fa6ab0
DTSTAMP:20260422T114041Z
DESCRIPTION:Please bring drinking water
DTSTART;TZID=America/Chicago:20220714T160000
DTEND;TZID=America/Chicago:20220714T170000
LOCATION:Firespring
SUMMARY:Walking Group
END:VEVENT
END:VCALENDAR
