BEGIN:VCALENDAR
VERSION:2.0
PRODID:-//phil.firespring.org//NONSGML kigkonsult.se iCalcreator 2.30.10//
CALSCALE:GREGORIAN
METHOD:PUBLISH
UID:62aa0c49-3683-424a-8115-4d992235b4d3
X-WR-CALDESC:Please bring drinking water
X-WR-RELCALID:ac4465b2e213596b663dbaadf7254497
X-WR-TIMEZONE:America/Chicago
BEGIN:VTIMEZONE
TZID:America/Chicago
BEGIN:STANDARD
TZNAME:CST
DTSTART:20211107T020000
TZOFFSETFROM:-0500
TZOFFSETTO:-0600
RDATE:20221106T020000
RDATE:20231105T020000
END:STANDARD
BEGIN:DAYLIGHT
TZNAME:CDT
DTSTART:20220313T020000
TZOFFSETFROM:-0600
TZOFFSETTO:-0500
RDATE:20230312T020000
END:DAYLIGHT
END:VTIMEZONE
BEGIN:VEVENT
UID:f4bc7d85-390b-46d5-8db0-04f058df7a64
DTSTAMP:20260422T095907Z
DESCRIPTION:Please bring drinking water
DTSTART;TZID=America/Chicago:20220818T160000
DTEND;TZID=America/Chicago:20220818T170000
LOCATION:Firespring
SUMMARY:Walking Group
END:VEVENT
END:VCALENDAR
