BEGIN:VCALENDAR
VERSION:2.0
PRODID:-//phil.firespring.org//NONSGML kigkonsult.se iCalcreator 2.30.10//
CALSCALE:GREGORIAN
METHOD:PUBLISH
UID:9280c3b0-36a6-42ec-909c-527797757a9b
X-WR-CALDESC:Please bring drinking water
X-WR-RELCALID:286e95240c9688947cbf62b63f605d19
X-WR-TIMEZONE:America/Chicago
BEGIN:VTIMEZONE
TZID:America/Chicago
BEGIN:STANDARD
TZNAME:CST
DTSTART:20211107T020000
TZOFFSETFROM:-0500
TZOFFSETTO:-0600
RDATE:20221106T020000
RDATE:20231105T020000
END:STANDARD
BEGIN:DAYLIGHT
TZNAME:CDT
DTSTART:20220313T020000
TZOFFSETFROM:-0600
TZOFFSETTO:-0500
RDATE:20230312T020000
END:DAYLIGHT
END:VTIMEZONE
BEGIN:VEVENT
UID:9a2fe9b2-ff85-4175-a190-49bc5c3db3a9
DTSTAMP:20260422T101654Z
DESCRIPTION:Please bring drinking water
DTSTART;TZID=America/Chicago:20220825T160000
DTEND;TZID=America/Chicago:20220825T170000
LOCATION:Firespring
SUMMARY:Walking Group
END:VEVENT
END:VCALENDAR
