BEGIN:VCALENDAR
VERSION:2.0
PRODID:-//phil.firespring.org//NONSGML kigkonsult.se iCalcreator 2.30.10//
CALSCALE:GREGORIAN
METHOD:PUBLISH
UID:e8d3504f-f5d7-44c5-ba88-f88486162e0e
X-WR-CALDESC:Please bring drinking water
X-WR-RELCALID:d5e1606ead147e0fc6d828bfc82275ef
X-WR-TIMEZONE:America/Chicago
BEGIN:VTIMEZONE
TZID:America/Chicago
BEGIN:STANDARD
TZNAME:CST
DTSTART:20211107T020000
TZOFFSETFROM:-0500
TZOFFSETTO:-0600
RDATE:20221106T020000
RDATE:20231105T020000
END:STANDARD
BEGIN:DAYLIGHT
TZNAME:CDT
DTSTART:20220313T020000
TZOFFSETFROM:-0600
TZOFFSETTO:-0500
RDATE:20230312T020000
END:DAYLIGHT
END:VTIMEZONE
BEGIN:VEVENT
UID:ef2e46ae-360d-4c0b-8c9a-b561b3f51f7c
DTSTAMP:20260422T083657Z
DESCRIPTION:Please bring drinking water
DTSTART;TZID=America/Chicago:20220901T160000
DTEND;TZID=America/Chicago:20220901T170000
LOCATION:Firespring
SUMMARY:Walking Group
END:VEVENT
END:VCALENDAR
