BEGIN:VCALENDAR
VERSION:2.0
PRODID:-//phil.firespring.org//NONSGML kigkonsult.se iCalcreator 2.30.10//
CALSCALE:GREGORIAN
METHOD:PUBLISH
UID:364a074a-f619-4e93-8163-dfe125a4d9d0
X-WR-CALDESC:Please bring drinking water
X-WR-RELCALID:ee971c28f4e6e20708306144cb5ec295
X-WR-TIMEZONE:America/Chicago
BEGIN:VTIMEZONE
TZID:America/Chicago
BEGIN:STANDARD
TZNAME:CST
DTSTART:20221106T020000
TZOFFSETFROM:-0500
TZOFFSETTO:-0600
RDATE:20231105T020000
END:STANDARD
BEGIN:DAYLIGHT
TZNAME:CDT
DTSTART:20220313T020000
TZOFFSETFROM:-0600
TZOFFSETTO:-0500
RDATE:20230312T020000
RDATE:20240310T020000
END:DAYLIGHT
END:VTIMEZONE
BEGIN:VEVENT
UID:05bf7b6a-ab94-4911-b329-f5388dd6a61f
DTSTAMP:20260422T053026Z
DESCRIPTION:Please bring drinking water
DTSTART;TZID=America/Chicago:20221124T160000
DTEND;TZID=America/Chicago:20221124T170000
LOCATION:Firespring
SUMMARY:Walking Group
END:VEVENT
END:VCALENDAR
