BEGIN:VCALENDAR
VERSION:2.0
PRODID:-//phil.firespring.org//NONSGML kigkonsult.se iCalcreator 2.30.10//
CALSCALE:GREGORIAN
METHOD:PUBLISH
UID:4882d20a-d624-4ca8-8d95-39698a7adde4
X-WR-CALDESC:Please bring drinking water
X-WR-RELCALID:104adf081d435dce9b05bc41da6f71b4
X-WR-TIMEZONE:America/Chicago
BEGIN:VTIMEZONE
TZID:America/Chicago
BEGIN:STANDARD
TZNAME:CST
DTSTART:20221106T020000
TZOFFSETFROM:-0500
TZOFFSETTO:-0600
RDATE:20231105T020000
END:STANDARD
BEGIN:DAYLIGHT
TZNAME:CDT
DTSTART:20220313T020000
TZOFFSETFROM:-0600
TZOFFSETTO:-0500
RDATE:20230312T020000
RDATE:20240310T020000
END:DAYLIGHT
END:VTIMEZONE
BEGIN:VEVENT
UID:cc9fa288-e431-4c65-9ae2-2b00ec4344b6
DTSTAMP:20260422T041458Z
DESCRIPTION:Please bring drinking water
DTSTART;TZID=America/Chicago:20221208T160000
DTEND;TZID=America/Chicago:20221208T170000
LOCATION:Firespring
SUMMARY:Walking Group
END:VEVENT
END:VCALENDAR
