BEGIN:VCALENDAR
VERSION:2.0
PRODID:-//phil.firespring.org//NONSGML kigkonsult.se iCalcreator 2.30.10//
CALSCALE:GREGORIAN
METHOD:PUBLISH
UID:a0fcd438-794c-4f22-a83c-0ac53b271d4e
X-WR-CALDESC:Please bring drinking water
X-WR-RELCALID:50233cac4c54188258e36c0ca614095a
X-WR-TIMEZONE:America/Chicago
BEGIN:VTIMEZONE
TZID:America/Chicago
BEGIN:STANDARD
TZNAME:CST
DTSTART:20221106T020000
TZOFFSETFROM:-0500
TZOFFSETTO:-0600
RDATE:20231105T020000
END:STANDARD
BEGIN:DAYLIGHT
TZNAME:CDT
DTSTART:20220313T020000
TZOFFSETFROM:-0600
TZOFFSETTO:-0500
RDATE:20230312T020000
RDATE:20240310T020000
END:DAYLIGHT
END:VTIMEZONE
BEGIN:VEVENT
UID:9dd2a4e3-5b71-4730-8291-84223edefa3c
DTSTAMP:20260422T033605Z
DESCRIPTION:Please bring drinking water
DTSTART;TZID=America/Chicago:20221222T160000
DTEND;TZID=America/Chicago:20221222T170000
LOCATION:Firespring
SUMMARY:Walking Group
END:VEVENT
END:VCALENDAR
