BEGIN:VCALENDAR
VERSION:2.0
PRODID:-//phil.firespring.org//NONSGML kigkonsult.se iCalcreator 2.30.10//
CALSCALE:GREGORIAN
METHOD:PUBLISH
UID:c5ca00c0-e037-48d4-9ba4-3c8b2550d4a6
X-WR-CALDESC:Please bring drinking water
X-WR-RELCALID:c7bb1e98ba5b06a0ea452d73a43da274
X-WR-TIMEZONE:America/Chicago
BEGIN:VTIMEZONE
TZID:America/Chicago
BEGIN:STANDARD
TZNAME:CST
DTSTART:20221106T020000
TZOFFSETFROM:-0500
TZOFFSETTO:-0600
RDATE:20231105T020000
END:STANDARD
BEGIN:DAYLIGHT
TZNAME:CDT
DTSTART:20230312T020000
TZOFFSETFROM:-0600
TZOFFSETTO:-0500
RDATE:20240310T020000
END:DAYLIGHT
END:VTIMEZONE
BEGIN:VEVENT
UID:bc9660ab-b8cd-4ed4-8d5f-6f137ce4732a
DTSTAMP:20260421T225414Z
DESCRIPTION:Please bring drinking water
DTSTART;TZID=America/Chicago:20230316T160000
DTEND;TZID=America/Chicago:20230316T170000
LOCATION:Firespring
SUMMARY:Walking Group
END:VEVENT
END:VCALENDAR
