BEGIN:VCALENDAR
VERSION:2.0
PRODID:-//phil.firespring.org//NONSGML kigkonsult.se iCalcreator 2.30.10//
CALSCALE:GREGORIAN
METHOD:PUBLISH
UID:ee24fa44-cc4e-427d-80f7-a20afc0cfc67
X-WR-CALDESC:Please bring drinking water
X-WR-RELCALID:f4230923f1f5bbe807cb0b47a12de3e2
X-WR-TIMEZONE:America/Chicago
BEGIN:VTIMEZONE
TZID:America/Chicago
BEGIN:STANDARD
TZNAME:CST
DTSTART:20221106T020000
TZOFFSETFROM:-0500
TZOFFSETTO:-0600
RDATE:20231105T020000
END:STANDARD
BEGIN:DAYLIGHT
TZNAME:CDT
DTSTART:20230312T020000
TZOFFSETFROM:-0600
TZOFFSETTO:-0500
RDATE:20240310T020000
END:DAYLIGHT
END:VTIMEZONE
BEGIN:VEVENT
UID:812ec766-fb06-4a3f-b3b9-63d74e344312
DTSTAMP:20260421T194703Z
DESCRIPTION:Please bring drinking water
DTSTART;TZID=America/Chicago:20230504T160000
DTEND;TZID=America/Chicago:20230504T170000
LOCATION:Firespring
SUMMARY:Walking Group
END:VEVENT
END:VCALENDAR
