BEGIN:VCALENDAR
VERSION:2.0
PRODID:-//phil.firespring.org//NONSGML kigkonsult.se iCalcreator 2.30.10//
CALSCALE:GREGORIAN
METHOD:PUBLISH
UID:1b54ea72-eda4-4433-a9a0-e9373e64e8ec
X-WR-CALDESC:Please bring drinking water
X-WR-RELCALID:cc33c4dacc94df1393f964ea0f320927
X-WR-TIMEZONE:America/Chicago
BEGIN:VTIMEZONE
TZID:America/Chicago
BEGIN:STANDARD
TZNAME:CST
DTSTART:20221106T020000
TZOFFSETFROM:-0500
TZOFFSETTO:-0600
RDATE:20231105T020000
RDATE:20241103T020000
END:STANDARD
BEGIN:DAYLIGHT
TZNAME:CDT
DTSTART:20230312T020000
TZOFFSETFROM:-0600
TZOFFSETTO:-0500
RDATE:20240310T020000
END:DAYLIGHT
END:VTIMEZONE
BEGIN:VEVENT
UID:b2fbf3bb-cfe2-4fee-b690-17d176d53335
DTSTAMP:20260421T181044Z
DESCRIPTION:Please bring drinking water
DTSTART;TZID=America/Chicago:20230601T160000
DTEND;TZID=America/Chicago:20230601T170000
LOCATION:Firespring
SUMMARY:Walking Group
END:VEVENT
END:VCALENDAR
