BEGIN:VCALENDAR
VERSION:2.0
PRODID:-//phil.firespring.org//NONSGML kigkonsult.se iCalcreator 2.30.10//
CALSCALE:GREGORIAN
METHOD:PUBLISH
UID:c7e289ba-09f7-4918-a20e-baeb8fa3b019
X-WR-CALDESC:Please bring drinking water
X-WR-RELCALID:00892c52ba653241de5a36a2fcb648bf
X-WR-TIMEZONE:America/Chicago
BEGIN:VTIMEZONE
TZID:America/Chicago
BEGIN:STANDARD
TZNAME:CST
DTSTART:20221106T020000
TZOFFSETFROM:-0500
TZOFFSETTO:-0600
RDATE:20231105T020000
RDATE:20241103T020000
END:STANDARD
BEGIN:DAYLIGHT
TZNAME:CDT
DTSTART:20230312T020000
TZOFFSETFROM:-0600
TZOFFSETTO:-0500
RDATE:20240310T020000
END:DAYLIGHT
END:VTIMEZONE
BEGIN:VEVENT
UID:d8eb3b2c-f2f1-41f1-a2a3-c37a46bd6855
DTSTAMP:20260421T163816Z
DESCRIPTION:Please bring drinking water
DTSTART;TZID=America/Chicago:20230706T160000
DTEND;TZID=America/Chicago:20230706T170000
LOCATION:Firespring
SUMMARY:Walking Group
END:VEVENT
END:VCALENDAR
