BEGIN:VCALENDAR
VERSION:2.0
PRODID:-//phil.firespring.org//NONSGML kigkonsult.se iCalcreator 2.30.10//
CALSCALE:GREGORIAN
METHOD:PUBLISH
UID:c2c32a26-83bc-4424-b365-be561786e7a0
X-WR-CALDESC:Please bring drinking water
X-WR-RELCALID:0ba358975410b63671ef6633f3a17992
X-WR-TIMEZONE:America/Chicago
BEGIN:VTIMEZONE
TZID:America/Chicago
BEGIN:STANDARD
TZNAME:CST
DTSTART:20221106T020000
TZOFFSETFROM:-0500
TZOFFSETTO:-0600
RDATE:20231105T020000
RDATE:20241103T020000
END:STANDARD
BEGIN:DAYLIGHT
TZNAME:CDT
DTSTART:20230312T020000
TZOFFSETFROM:-0600
TZOFFSETTO:-0500
RDATE:20240310T020000
END:DAYLIGHT
END:VTIMEZONE
BEGIN:VEVENT
UID:30f6f587-56f9-457b-aefc-8aff47b24ec5
DTSTAMP:20260421T163902Z
DESCRIPTION:Please bring drinking water
DTSTART;TZID=America/Chicago:20230713T160000
DTEND;TZID=America/Chicago:20230713T170000
LOCATION:Firespring
SUMMARY:Walking Group
END:VEVENT
END:VCALENDAR
