BEGIN:VCALENDAR
VERSION:2.0
PRODID:-//phil.firespring.org//NONSGML kigkonsult.se iCalcreator 2.30.10//
CALSCALE:GREGORIAN
METHOD:PUBLISH
UID:88c5cbc4-8b27-436f-b6bf-91407eb4728b
X-WR-CALDESC:asdfasd
X-WR-RELCALID:3327495b914ae9b33d7fcd45bbf87d6f
X-WR-TIMEZONE:America/Chicago
BEGIN:VTIMEZONE
TZID:America/Chicago
BEGIN:STANDARD
TZNAME:CST
DTSTART:20221106T020000
TZOFFSETFROM:-0500
TZOFFSETTO:-0600
RDATE:20231105T020000
RDATE:20241103T020000
END:STANDARD
BEGIN:DAYLIGHT
TZNAME:CDT
DTSTART:20230312T020000
TZOFFSETFROM:-0600
TZOFFSETTO:-0500
RDATE:20240310T020000
END:DAYLIGHT
END:VTIMEZONE
BEGIN:VEVENT
UID:27f3245c-c9ee-4bda-befb-ea3e88240f59
DTSTAMP:20260421T163934Z
DESCRIPTION:asdfasd
DTSTART;TZID=America/Chicago:20230715T170000
DTEND;TZID=America/Chicago:20230715T190000
LOCATION:
SUMMARY:July Board Meeting
END:VEVENT
END:VCALENDAR
