BEGIN:VCALENDAR
VERSION:2.0
PRODID:-//phil.firespring.org//NONSGML kigkonsult.se iCalcreator 2.30.10//
CALSCALE:GREGORIAN
METHOD:PUBLISH
UID:7d084b7d-3e18-48c2-b99a-0b500244a46c
X-WR-CALDESC:Please bring drinking water
X-WR-RELCALID:1bba2f7d3b81e5beab93f832dcbf46cc
X-WR-TIMEZONE:America/Chicago
BEGIN:VTIMEZONE
TZID:America/Chicago
BEGIN:STANDARD
TZNAME:CST
DTSTART:20221106T020000
TZOFFSETFROM:-0500
TZOFFSETTO:-0600
RDATE:20231105T020000
RDATE:20241103T020000
END:STANDARD
BEGIN:DAYLIGHT
TZNAME:CDT
DTSTART:20230312T020000
TZOFFSETFROM:-0600
TZOFFSETTO:-0500
RDATE:20240310T020000
END:DAYLIGHT
END:VTIMEZONE
BEGIN:VEVENT
UID:4d44223e-6355-48c6-81e1-24521b0ae47a
DTSTAMP:20260421T163805Z
DESCRIPTION:Please bring drinking water
DTSTART;TZID=America/Chicago:20230720T160000
DTEND;TZID=America/Chicago:20230720T170000
LOCATION:Firespring
SUMMARY:Walking Group
END:VEVENT
END:VCALENDAR
