BEGIN:VCALENDAR
VERSION:2.0
PRODID:-//phil.firespring.org//NONSGML kigkonsult.se iCalcreator 2.30.10//
CALSCALE:GREGORIAN
METHOD:PUBLISH
UID:42940518-1518-464b-a1d0-8b5e87c42575
X-WR-CALDESC:Please bring drinking water
X-WR-RELCALID:47bb6c55efc56a91c2fdd5f011e4f2ad
X-WR-TIMEZONE:America/Chicago
BEGIN:VTIMEZONE
TZID:America/Chicago
BEGIN:STANDARD
TZNAME:CST
DTSTART:20221106T020000
TZOFFSETFROM:-0500
TZOFFSETTO:-0600
RDATE:20231105T020000
RDATE:20241103T020000
END:STANDARD
BEGIN:DAYLIGHT
TZNAME:CDT
DTSTART:20230312T020000
TZOFFSETFROM:-0600
TZOFFSETTO:-0500
RDATE:20240310T020000
END:DAYLIGHT
END:VTIMEZONE
BEGIN:VEVENT
UID:ce52bc83-08ee-4dfa-8cdd-dcab6cbadc50
DTSTAMP:20260421T153401Z
DESCRIPTION:Please bring drinking water
DTSTART;TZID=America/Chicago:20230810T160000
DTEND;TZID=America/Chicago:20230810T170000
LOCATION:Firespring
SUMMARY:Walking Group
END:VEVENT
END:VCALENDAR
