BEGIN:VCALENDAR
VERSION:2.0
PRODID:-//phil.firespring.org//NONSGML kigkonsult.se iCalcreator 2.30.10//
CALSCALE:GREGORIAN
METHOD:PUBLISH
UID:d05c8b3a-c19d-4212-b493-a06ef4d5d024
X-WR-CALDESC:Join us as we celebrate our community and organize one new pro
 ject each month. Sack lunches will be provided for those that are staying 
 longer than two hours.
X-WR-RELCALID:47f3bd1c8ef77d04b6b6b83cd44df3fd
X-WR-TIMEZONE:America/Chicago
BEGIN:VTIMEZONE
TZID:America/Chicago
BEGIN:STANDARD
TZNAME:CST
DTSTART:20221106T020000
TZOFFSETFROM:-0500
TZOFFSETTO:-0600
RDATE:20231105T020000
RDATE:20241103T020000
END:STANDARD
BEGIN:DAYLIGHT
TZNAME:CDT
DTSTART:20230312T020000
TZOFFSETFROM:-0600
TZOFFSETTO:-0500
RDATE:20240310T020000
RDATE:20250309T020000
END:DAYLIGHT
END:VTIMEZONE
BEGIN:VEVENT
UID:6196a9fa-709c-4a61-9260-451a450463c9
DTSTAMP:20260421T140441Z
DESCRIPTION:Join us as we celebrate our community and organize one new proj
 ect each month. Sack lunches will be provided for those that are staying l
 onger than two hours.
DTSTART;TZID=America/Chicago:20230917T090000
DTEND;TZID=America/Chicago:20230917T150000
LOCATION:City Park
SUMMARY:Community Outreach
END:VEVENT
END:VCALENDAR
