BEGIN:VCALENDAR
VERSION:2.0
PRODID:-//phil.firespring.org//NONSGML kigkonsult.se iCalcreator 2.30.10//
CALSCALE:GREGORIAN
METHOD:PUBLISH
UID:29537154-2ed7-4f66-a2fc-216485f3e581
X-WR-CALDESC:Please bring drinking water
X-WR-RELCALID:813d1b5fa11ef4cc56e3b3dc542b04ba
X-WR-TIMEZONE:America/Chicago
BEGIN:VTIMEZONE
TZID:America/Chicago
BEGIN:STANDARD
TZNAME:CST
DTSTART:20221106T020000
TZOFFSETFROM:-0500
TZOFFSETTO:-0600
RDATE:20231105T020000
RDATE:20241103T020000
END:STANDARD
BEGIN:DAYLIGHT
TZNAME:CDT
DTSTART:20230312T020000
TZOFFSETFROM:-0600
TZOFFSETTO:-0500
RDATE:20240310T020000
RDATE:20250309T020000
END:DAYLIGHT
END:VTIMEZONE
BEGIN:VEVENT
UID:4ac11d8e-fe27-4d08-9481-d570d805f743
DTSTAMP:20260421T135139Z
DESCRIPTION:Please bring drinking water
DTSTART;TZID=America/Chicago:20230928T160000
DTEND;TZID=America/Chicago:20230928T170000
LOCATION:Firespring
SUMMARY:Walking Group
END:VEVENT
END:VCALENDAR
