BEGIN:VCALENDAR
VERSION:2.0
PRODID:-//phil.firespring.org//NONSGML kigkonsult.se iCalcreator 2.30.10//
CALSCALE:GREGORIAN
METHOD:PUBLISH
UID:77fe5123-8a86-4dfd-b5ad-64e0764fdaf4
X-WR-CALDESC:Please bring drinking water
X-WR-RELCALID:e6cba2c60acb448cfdd91b1164efad46
X-WR-TIMEZONE:America/Chicago
BEGIN:VTIMEZONE
TZID:America/Chicago
BEGIN:STANDARD
TZNAME:CST
DTSTART:20221106T020000
TZOFFSETFROM:-0500
TZOFFSETTO:-0600
RDATE:20231105T020000
RDATE:20241103T020000
END:STANDARD
BEGIN:DAYLIGHT
TZNAME:CDT
DTSTART:20230312T020000
TZOFFSETFROM:-0600
TZOFFSETTO:-0500
RDATE:20240310T020000
RDATE:20250309T020000
END:DAYLIGHT
END:VTIMEZONE
BEGIN:VEVENT
UID:d57863e0-b895-4020-a9e8-f2556cb94172
DTSTAMP:20260421T103632Z
DESCRIPTION:Please bring drinking water
DTSTART;TZID=America/Chicago:20231102T160000
DTEND;TZID=America/Chicago:20231102T170000
LOCATION:Firespring
SUMMARY:Walking Group
END:VEVENT
END:VCALENDAR
