BEGIN:VCALENDAR
VERSION:2.0
PRODID:-//phil.firespring.org//NONSGML kigkonsult.se iCalcreator 2.30.10//
CALSCALE:GREGORIAN
METHOD:PUBLISH
UID:76a3a409-b011-497b-a32a-9d01030966f9
X-WR-CALDESC:Please bring drinking water
X-WR-RELCALID:71987627f96444ff3c082318d68d59ad
X-WR-TIMEZONE:America/Chicago
BEGIN:VTIMEZONE
TZID:America/Chicago
BEGIN:STANDARD
TZNAME:CST
DTSTART:20231105T020000
TZOFFSETFROM:-0500
TZOFFSETTO:-0600
RDATE:20241103T020000
END:STANDARD
BEGIN:DAYLIGHT
TZNAME:CDT
DTSTART:20230312T020000
TZOFFSETFROM:-0600
TZOFFSETTO:-0500
RDATE:20240310T020000
RDATE:20250309T020000
END:DAYLIGHT
END:VTIMEZONE
BEGIN:VEVENT
UID:ce86a575-33ac-4c70-9ae1-3a1d36563116
DTSTAMP:20260421T090821Z
DESCRIPTION:Please bring drinking water
DTSTART;TZID=America/Chicago:20231221T160000
DTEND;TZID=America/Chicago:20231221T170000
LOCATION:Firespring
SUMMARY:Walking Group
END:VEVENT
END:VCALENDAR
