BEGIN:VCALENDAR
VERSION:2.0
PRODID:-//phil.firespring.org//NONSGML kigkonsult.se iCalcreator 2.30.10//
CALSCALE:GREGORIAN
METHOD:PUBLISH
UID:d74cb286-e1f4-433d-9460-82f26f433ac6
X-WR-CALDESC:Please bring drinking water
X-WR-RELCALID:3057f98b9f5469ee4af21d4687cadf33
X-WR-TIMEZONE:America/Chicago
BEGIN:VTIMEZONE
TZID:America/Chicago
BEGIN:STANDARD
TZNAME:CST
DTSTART:20271107T020000
TZOFFSETFROM:-0500
TZOFFSETTO:-0600
RDATE:20281105T020000
RDATE:20291104T020000
END:STANDARD
BEGIN:DAYLIGHT
TZNAME:CDT
DTSTART:20280312T020000
TZOFFSETFROM:-0600
TZOFFSETTO:-0500
RDATE:20290311T020000
END:DAYLIGHT
END:VTIMEZONE
BEGIN:VEVENT
UID:bd16ba60-eb13-4896-8777-53673f002bec
DTSTAMP:20260421T090754Z
DESCRIPTION:Please bring drinking water
DTSTART;TZID=America/Chicago:20280706T160000
DTEND;TZID=America/Chicago:20280706T170000
LOCATION:Firespring
SUMMARY:Walking Group
END:VEVENT
END:VCALENDAR
