BEGIN:VCALENDAR
VERSION:2.0
PRODID:-//phil.firespring.org//NONSGML kigkonsult.se iCalcreator 2.30.10//
CALSCALE:GREGORIAN
METHOD:PUBLISH
UID:951e81ed-f708-417d-9170-3421a196c319
X-WR-CALDESC:Please bring drinking water
X-WR-RELCALID:53c903e5575129e015f1ab5c09a16de7
X-WR-TIMEZONE:America/Chicago
BEGIN:VTIMEZONE
TZID:America/Chicago
BEGIN:STANDARD
TZNAME:CST
DTSTART:20271107T020000
TZOFFSETFROM:-0500
TZOFFSETTO:-0600
RDATE:20281105T020000
RDATE:20291104T020000
END:STANDARD
BEGIN:DAYLIGHT
TZNAME:CDT
DTSTART:20280312T020000
TZOFFSETFROM:-0600
TZOFFSETTO:-0500
RDATE:20290311T020000
END:DAYLIGHT
END:VTIMEZONE
BEGIN:VEVENT
UID:7f55eadc-bb20-46e1-9753-322d13ff208f
DTSTAMP:20260421T090820Z
DESCRIPTION:Please bring drinking water
DTSTART;TZID=America/Chicago:20280803T160000
DTEND;TZID=America/Chicago:20280803T170000
LOCATION:Firespring
SUMMARY:Walking Group
END:VEVENT
END:VCALENDAR
