BEGIN:VCALENDAR
VERSION:2.0
PRODID:-//phil.firespring.org//NONSGML kigkonsult.se iCalcreator 2.30.10//
CALSCALE:GREGORIAN
METHOD:PUBLISH
UID:c38271f7-6fda-402f-9a5d-8a1d122f411d
X-WR-CALDESC:Please bring drinking water
X-WR-RELCALID:c249ff134df99c48ed25033eea8356d7
X-WR-TIMEZONE:America/Chicago
BEGIN:VTIMEZONE
TZID:America/Chicago
BEGIN:STANDARD
TZNAME:CST
DTSTART:20271107T020000
TZOFFSETFROM:-0500
TZOFFSETTO:-0600
RDATE:20281105T020000
RDATE:20291104T020000
END:STANDARD
BEGIN:DAYLIGHT
TZNAME:CDT
DTSTART:20280312T020000
TZOFFSETFROM:-0600
TZOFFSETTO:-0500
RDATE:20290311T020000
END:DAYLIGHT
END:VTIMEZONE
BEGIN:VEVENT
UID:4d209b4b-b14f-4e32-8feb-a216a5e138e0
DTSTAMP:20260421T090845Z
DESCRIPTION:Please bring drinking water
DTSTART;TZID=America/Chicago:20280831T160000
DTEND;TZID=America/Chicago:20280831T170000
LOCATION:Firespring
SUMMARY:Walking Group
END:VEVENT
END:VCALENDAR
