BEGIN:VCALENDAR
VERSION:2.0
PRODID:-//phil.firespring.org//NONSGML kigkonsult.se iCalcreator 2.30.10//
CALSCALE:GREGORIAN
METHOD:PUBLISH
UID:d7014143-88ab-49f5-8255-ce98da929475
X-WR-CALDESC:Please bring drinking water
X-WR-RELCALID:8eaeeddf283ab1317c31ee1d2d0f7ac7
X-WR-TIMEZONE:America/Chicago
BEGIN:VTIMEZONE
TZID:America/Chicago
BEGIN:STANDARD
TZNAME:CST
DTSTART:20271107T020000
TZOFFSETFROM:-0500
TZOFFSETTO:-0600
RDATE:20281105T020000
RDATE:20291104T020000
END:STANDARD
BEGIN:DAYLIGHT
TZNAME:CDT
DTSTART:20280312T020000
TZOFFSETFROM:-0600
TZOFFSETTO:-0500
RDATE:20290311T020000
RDATE:20300310T020000
END:DAYLIGHT
END:VTIMEZONE
BEGIN:VEVENT
UID:40282619-dccf-4314-b6a4-bd407e7b4f57
DTSTAMP:20260421T114700Z
DESCRIPTION:Please bring drinking water
DTSTART;TZID=America/Chicago:20280921T160000
DTEND;TZID=America/Chicago:20280921T170000
LOCATION:Firespring
SUMMARY:Walking Group
END:VEVENT
END:VCALENDAR
