BEGIN:VCALENDAR
VERSION:2.0
PRODID:-//phil.firespring.org//NONSGML kigkonsult.se iCalcreator 2.30.10//
CALSCALE:GREGORIAN
METHOD:PUBLISH
UID:875adf60-a3a0-4260-832a-13bbcf131842
X-WR-CALDESC:Please bring drinking water
X-WR-RELCALID:1efc30c888ca73876f9469d7c41ab5b4
X-WR-TIMEZONE:America/Chicago
BEGIN:VTIMEZONE
TZID:America/Chicago
BEGIN:STANDARD
TZNAME:CST
DTSTART:20281105T020000
TZOFFSETFROM:-0500
TZOFFSETTO:-0600
RDATE:20291104T020000
END:STANDARD
BEGIN:DAYLIGHT
TZNAME:CDT
DTSTART:20280312T020000
TZOFFSETFROM:-0600
TZOFFSETTO:-0500
RDATE:20290311T020000
RDATE:20300310T020000
END:DAYLIGHT
END:VTIMEZONE
BEGIN:VEVENT
UID:69c40286-8e98-4f16-9c07-9d7dd447ce7c
DTSTAMP:20260421T151736Z
DESCRIPTION:Please bring drinking water
DTSTART;TZID=America/Chicago:20281109T160000
DTEND;TZID=America/Chicago:20281109T170000
LOCATION:Firespring
SUMMARY:Walking Group
END:VEVENT
END:VCALENDAR
