BEGIN:VCALENDAR
VERSION:2.0
PRODID:-//phil.firespring.org//NONSGML kigkonsult.se iCalcreator 2.30.10//
CALSCALE:GREGORIAN
METHOD:PUBLISH
UID:3725f313-925e-4b2b-aca1-6441e91a7dd7
X-WR-CALDESC:Please bring drinking water
X-WR-RELCALID:52485df0ee7aad81457065b6a4a8acff
X-WR-TIMEZONE:America/Chicago
BEGIN:VTIMEZONE
TZID:America/Chicago
BEGIN:STANDARD
TZNAME:CST
DTSTART:20281105T020000
TZOFFSETFROM:-0500
TZOFFSETTO:-0600
RDATE:20291104T020000
END:STANDARD
BEGIN:DAYLIGHT
TZNAME:CDT
DTSTART:20280312T020000
TZOFFSETFROM:-0600
TZOFFSETTO:-0500
RDATE:20290311T020000
RDATE:20300310T020000
END:DAYLIGHT
END:VTIMEZONE
BEGIN:VEVENT
UID:b4ad81ac-aaf8-49cb-8278-1a943dd73a7e
DTSTAMP:20260421T150047Z
DESCRIPTION:Please bring drinking water
DTSTART;TZID=America/Chicago:20281116T160000
DTEND;TZID=America/Chicago:20281116T170000
LOCATION:Firespring
SUMMARY:Walking Group
END:VEVENT
END:VCALENDAR
