BEGIN:VCALENDAR
VERSION:2.0
PRODID:-//phil.firespring.org//NONSGML kigkonsult.se iCalcreator 2.30.10//
CALSCALE:GREGORIAN
METHOD:PUBLISH
UID:271cbcb2-808a-483d-9c76-98c0601a6d54
X-WR-CALDESC:Please bring drinking water
X-WR-RELCALID:7ba100c043968c36f46978780d2076d6
X-WR-TIMEZONE:America/Chicago
BEGIN:VTIMEZONE
TZID:America/Chicago
BEGIN:STANDARD
TZNAME:CST
DTSTART:20281105T020000
TZOFFSETFROM:-0500
TZOFFSETTO:-0600
RDATE:20291104T020000
END:STANDARD
BEGIN:DAYLIGHT
TZNAME:CDT
DTSTART:20280312T020000
TZOFFSETFROM:-0600
TZOFFSETTO:-0500
RDATE:20290311T020000
RDATE:20300310T020000
END:DAYLIGHT
END:VTIMEZONE
BEGIN:VEVENT
UID:26b8c8ba-e611-485b-8fcf-d45e33cebb2f
DTSTAMP:20260421T181145Z
DESCRIPTION:Please bring drinking water
DTSTART;TZID=America/Chicago:20290111T160000
DTEND;TZID=America/Chicago:20290111T170000
LOCATION:Firespring
SUMMARY:Walking Group
END:VEVENT
END:VCALENDAR
