BEGIN:VCALENDAR
VERSION:2.0
PRODID:-//phil.firespring.org//NONSGML kigkonsult.se iCalcreator 2.30.10//
CALSCALE:GREGORIAN
METHOD:PUBLISH
UID:178b6007-e70b-400b-a08a-1b3bc063e41d
X-WR-CALDESC:Please bring drinking water
X-WR-RELCALID:85b0f416c9d0e066a6bf7fbe7e13bea7
X-WR-TIMEZONE:America/Chicago
BEGIN:VTIMEZONE
TZID:America/Chicago
BEGIN:STANDARD
TZNAME:CST
DTSTART:20281105T020000
TZOFFSETFROM:-0500
TZOFFSETTO:-0600
RDATE:20291104T020000
END:STANDARD
BEGIN:DAYLIGHT
TZNAME:CDT
DTSTART:20280312T020000
TZOFFSETFROM:-0600
TZOFFSETTO:-0500
RDATE:20290311T020000
RDATE:20300310T020000
END:DAYLIGHT
END:VTIMEZONE
BEGIN:VEVENT
UID:ae3d4ae5-106c-4345-8944-d6781f37da5a
DTSTAMP:20260421T175703Z
DESCRIPTION:Please bring drinking water
DTSTART;TZID=America/Chicago:20290125T160000
DTEND;TZID=America/Chicago:20290125T170000
LOCATION:Firespring
SUMMARY:Walking Group
END:VEVENT
END:VCALENDAR
