BEGIN:VCALENDAR
VERSION:2.0
PRODID:-//phil.firespring.org//NONSGML kigkonsult.se iCalcreator 2.30.10//
CALSCALE:GREGORIAN
METHOD:PUBLISH
UID:328ffa4e-fd16-41f5-8486-f0db85f4647a
X-WR-CALDESC:Please bring drinking water
X-WR-RELCALID:822dca1ea5749b68046458ea7eaa1f0f
X-WR-TIMEZONE:America/Chicago
BEGIN:VTIMEZONE
TZID:America/Chicago
BEGIN:STANDARD
TZNAME:CST
DTSTART:20281105T020000
TZOFFSETFROM:-0500
TZOFFSETTO:-0600
RDATE:20291104T020000
END:STANDARD
BEGIN:DAYLIGHT
TZNAME:CDT
DTSTART:20280312T020000
TZOFFSETFROM:-0600
TZOFFSETTO:-0500
RDATE:20290311T020000
RDATE:20300310T020000
END:DAYLIGHT
END:VTIMEZONE
BEGIN:VEVENT
UID:ead28c95-c488-43d1-af8f-e32283cd4b13
DTSTAMP:20260421T195654Z
DESCRIPTION:Please bring drinking water
DTSTART;TZID=America/Chicago:20290201T160000
DTEND;TZID=America/Chicago:20290201T170000
LOCATION:Firespring
SUMMARY:Walking Group
END:VEVENT
END:VCALENDAR
