BEGIN:VCALENDAR
VERSION:2.0
PRODID:-//phil.firespring.org//NONSGML kigkonsult.se iCalcreator 2.30.10//
CALSCALE:GREGORIAN
METHOD:PUBLISH
UID:76dde4b2-852e-4bc4-90b6-7415341b42d2
X-WR-CALDESC:Please bring drinking water
X-WR-RELCALID:ec8d42c77d7a9b9632092b12ca120456
X-WR-TIMEZONE:America/Chicago
BEGIN:VTIMEZONE
TZID:America/Chicago
BEGIN:STANDARD
TZNAME:CST
DTSTART:20281105T020000
TZOFFSETFROM:-0500
TZOFFSETTO:-0600
RDATE:20291104T020000
END:STANDARD
BEGIN:DAYLIGHT
TZNAME:CDT
DTSTART:20280312T020000
TZOFFSETFROM:-0600
TZOFFSETTO:-0500
RDATE:20290311T020000
RDATE:20300310T020000
END:DAYLIGHT
END:VTIMEZONE
BEGIN:VEVENT
UID:d0b82e5d-2ce7-4cc9-87e3-2b3a89526a6c
DTSTAMP:20260421T195652Z
DESCRIPTION:Please bring drinking water
DTSTART;TZID=America/Chicago:20290208T160000
DTEND;TZID=America/Chicago:20290208T170000
LOCATION:Firespring
SUMMARY:Walking Group
END:VEVENT
END:VCALENDAR
