BEGIN:VCALENDAR
VERSION:2.0
PRODID:-//phil.firespring.org//NONSGML kigkonsult.se iCalcreator 2.30.10//
CALSCALE:GREGORIAN
METHOD:PUBLISH
UID:89f374f8-060c-4877-960e-fac5937675f5
X-WR-CALDESC:Please bring drinking water
X-WR-RELCALID:4f1aa03957d6481a909fb14e5b286bd0
X-WR-TIMEZONE:America/Chicago
BEGIN:VTIMEZONE
TZID:America/Chicago
BEGIN:STANDARD
TZNAME:CST
DTSTART:20281105T020000
TZOFFSETFROM:-0500
TZOFFSETTO:-0600
RDATE:20291104T020000
END:STANDARD
BEGIN:DAYLIGHT
TZNAME:CDT
DTSTART:20280312T020000
TZOFFSETFROM:-0600
TZOFFSETTO:-0500
RDATE:20290311T020000
RDATE:20300310T020000
END:DAYLIGHT
END:VTIMEZONE
BEGIN:VEVENT
UID:173ef3a8-e38f-44f3-9aba-8e0be0a3af51
DTSTAMP:20260421T195745Z
DESCRIPTION:Please bring drinking water
DTSTART;TZID=America/Chicago:20290222T160000
DTEND;TZID=America/Chicago:20290222T170000
LOCATION:Firespring
SUMMARY:Walking Group
END:VEVENT
END:VCALENDAR
