BEGIN:VCALENDAR
VERSION:2.0
PRODID:-//phil.firespring.org//NONSGML kigkonsult.se iCalcreator 2.30.10//
CALSCALE:GREGORIAN
METHOD:PUBLISH
UID:c709f43d-5dd9-4294-a210-ddcdc6f7cbde
X-WR-CALDESC:Please bring drinking water
X-WR-RELCALID:1d66145c44418b462eb4236647d6521c
X-WR-TIMEZONE:America/Chicago
BEGIN:VTIMEZONE
TZID:America/Chicago
BEGIN:STANDARD
TZNAME:CST
DTSTART:20281105T020000
TZOFFSETFROM:-0500
TZOFFSETTO:-0600
RDATE:20291104T020000
END:STANDARD
BEGIN:DAYLIGHT
TZNAME:CDT
DTSTART:20290311T020000
TZOFFSETFROM:-0600
TZOFFSETTO:-0500
RDATE:20300310T020000
END:DAYLIGHT
END:VTIMEZONE
BEGIN:VEVENT
UID:5e52ccfe-7ce2-4962-a3be-bcdc7add194a
DTSTAMP:20260421T211621Z
DESCRIPTION:Please bring drinking water
DTSTART;TZID=America/Chicago:20290322T160000
DTEND;TZID=America/Chicago:20290322T170000
LOCATION:Firespring
SUMMARY:Walking Group
END:VEVENT
END:VCALENDAR
