BEGIN:VCALENDAR
VERSION:2.0
PRODID:-//phil.firespring.org//NONSGML kigkonsult.se iCalcreator 2.30.10//
CALSCALE:GREGORIAN
METHOD:PUBLISH
UID:70bb38a0-365f-42ee-8c66-6e862cc90a1d
X-WR-CALDESC:Please bring drinking water
X-WR-RELCALID:a29166581fe2768b4b211dc197bebbd9
X-WR-TIMEZONE:America/Chicago
BEGIN:VTIMEZONE
TZID:America/Chicago
BEGIN:STANDARD
TZNAME:CST
DTSTART:20281105T020000
TZOFFSETFROM:-0500
TZOFFSETTO:-0600
RDATE:20291104T020000
END:STANDARD
BEGIN:DAYLIGHT
TZNAME:CDT
DTSTART:20290311T020000
TZOFFSETFROM:-0600
TZOFFSETTO:-0500
RDATE:20300310T020000
END:DAYLIGHT
END:VTIMEZONE
BEGIN:VEVENT
UID:143db0c3-0b9f-4bb4-acb8-e9f0f92deecf
DTSTAMP:20260421T230829Z
DESCRIPTION:Please bring drinking water
DTSTART;TZID=America/Chicago:20290405T160000
DTEND;TZID=America/Chicago:20290405T170000
LOCATION:Firespring
SUMMARY:Walking Group
END:VEVENT
END:VCALENDAR
