BEGIN:VCALENDAR
VERSION:2.0
PRODID:-//phil.firespring.org//NONSGML kigkonsult.se iCalcreator 2.30.10//
CALSCALE:GREGORIAN
METHOD:PUBLISH
UID:bb55a1af-e479-4e18-9d40-101640ab97ba
X-WR-CALDESC:
X-WR-RELCALID:51c87cc5ae94e60bd5a7c550fb08bc42
X-WR-TIMEZONE:America/Chicago
BEGIN:VTIMEZONE
TZID:America/Chicago
BEGIN:STANDARD
TZNAME:CST
DTSTART:20281105T020000
TZOFFSETFROM:-0500
TZOFFSETTO:-0600
RDATE:20291104T020000
END:STANDARD
BEGIN:DAYLIGHT
TZNAME:CDT
DTSTART:20290311T020000
TZOFFSETFROM:-0600
TZOFFSETTO:-0500
RDATE:20300310T020000
END:DAYLIGHT
END:VTIMEZONE
BEGIN:VEVENT
UID:639b40e1-923a-4b4e-b1d6-b3d81b99d422
DTSTAMP:20260421T231053Z
DESCRIPTION:
DTSTART;TZID=America/Chicago:20290419T133000
DTEND;TZID=America/Chicago:20290419T143000
LOCATION:
SUMMARY:Monthly Lunch
END:VEVENT
END:VCALENDAR
