BEGIN:VCALENDAR
VERSION:2.0
PRODID:-//phil.firespring.org//NONSGML kigkonsult.se iCalcreator 2.30.10//
CALSCALE:GREGORIAN
METHOD:PUBLISH
UID:ed6cb057-e954-495c-b412-108b88e7e249
X-WR-CALDESC:Please bring drinking water
X-WR-RELCALID:e15e429809941b782d4dee9d3301b0dd
X-WR-TIMEZONE:America/Chicago
BEGIN:VTIMEZONE
TZID:America/Chicago
BEGIN:STANDARD
TZNAME:CST
DTSTART:20281105T020000
TZOFFSETFROM:-0500
TZOFFSETTO:-0600
RDATE:20291104T020000
RDATE:20301103T020000
END:STANDARD
BEGIN:DAYLIGHT
TZNAME:CDT
DTSTART:20290311T020000
TZOFFSETFROM:-0600
TZOFFSETTO:-0500
RDATE:20300310T020000
END:DAYLIGHT
END:VTIMEZONE
BEGIN:VEVENT
UID:db7e4bde-8b60-4bf7-a427-df68c47a9e5a
DTSTAMP:20260422T002716Z
DESCRIPTION:Please bring drinking water
DTSTART;TZID=America/Chicago:20290517T160000
DTEND;TZID=America/Chicago:20290517T170000
LOCATION:Firespring
SUMMARY:Walking Group
END:VEVENT
END:VCALENDAR
