BEGIN:VCALENDAR
VERSION:2.0
PRODID:-//phil.firespring.org//NONSGML kigkonsult.se iCalcreator 2.30.10//
CALSCALE:GREGORIAN
METHOD:PUBLISH
UID:4d1ff45f-0609-4257-9c03-bb0b42df8d39
X-WR-CALDESC:Please bring drinking water
X-WR-RELCALID:947ddee12610b8c2818dbd1a49a688ba
X-WR-TIMEZONE:America/Chicago
BEGIN:VTIMEZONE
TZID:America/Chicago
BEGIN:STANDARD
TZNAME:CST
DTSTART:20281105T020000
TZOFFSETFROM:-0500
TZOFFSETTO:-0600
RDATE:20291104T020000
RDATE:20301103T020000
END:STANDARD
BEGIN:DAYLIGHT
TZNAME:CDT
DTSTART:20290311T020000
TZOFFSETFROM:-0600
TZOFFSETTO:-0500
RDATE:20300310T020000
END:DAYLIGHT
END:VTIMEZONE
BEGIN:VEVENT
UID:1c30b81d-7d26-4d0d-800e-73a491dbc99c
DTSTAMP:20260422T020603Z
DESCRIPTION:Please bring drinking water
DTSTART;TZID=America/Chicago:20290607T160000
DTEND;TZID=America/Chicago:20290607T170000
LOCATION:Firespring
SUMMARY:Walking Group
END:VEVENT
END:VCALENDAR
