BEGIN:VCALENDAR
VERSION:2.0
PRODID:-//phil.firespring.org//NONSGML kigkonsult.se iCalcreator 2.30.10//
CALSCALE:GREGORIAN
METHOD:PUBLISH
UID:dcd5e7f5-e968-43b4-b5b6-0df0b2b4c609
X-WR-CALDESC:Please bring drinking water
X-WR-RELCALID:f98dff1769ec99a1ebb35eea2eb0f5c1
X-WR-TIMEZONE:America/Chicago
BEGIN:VTIMEZONE
TZID:America/Chicago
BEGIN:STANDARD
TZNAME:CST
DTSTART:20291104T020000
TZOFFSETFROM:-0500
TZOFFSETTO:-0600
RDATE:20301103T020000
END:STANDARD
BEGIN:DAYLIGHT
TZNAME:CDT
DTSTART:20290311T020000
TZOFFSETFROM:-0600
TZOFFSETTO:-0500
RDATE:20300310T020000
RDATE:20310309T020000
END:DAYLIGHT
END:VTIMEZONE
BEGIN:VEVENT
UID:1ad19e8e-67f1-41c8-8140-77abeb8ab7d2
DTSTAMP:20260422T101740Z
DESCRIPTION:Please bring drinking water
DTSTART;TZID=America/Chicago:20291115T160000
DTEND;TZID=America/Chicago:20291115T170000
LOCATION:Firespring
SUMMARY:Walking Group
END:VEVENT
END:VCALENDAR
