BEGIN:VCALENDAR
VERSION:2.0
PRODID:-//phil.firespring.org//NONSGML kigkonsult.se iCalcreator 2.30.10//
CALSCALE:GREGORIAN
METHOD:PUBLISH
UID:3e59871e-4007-4bb6-bf42-a4433b3486ae
X-WR-CALDESC:Please bring drinking water
X-WR-RELCALID:1b95c3b21fc4dbc0e903544e6f306e2a
X-WR-TIMEZONE:America/Chicago
BEGIN:VTIMEZONE
TZID:America/Chicago
BEGIN:STANDARD
TZNAME:CST
DTSTART:20291104T020000
TZOFFSETFROM:-0500
TZOFFSETTO:-0600
RDATE:20301103T020000
END:STANDARD
BEGIN:DAYLIGHT
TZNAME:CDT
DTSTART:20290311T020000
TZOFFSETFROM:-0600
TZOFFSETTO:-0500
RDATE:20300310T020000
RDATE:20310309T020000
END:DAYLIGHT
END:VTIMEZONE
BEGIN:VEVENT
UID:a1a57c3a-5c71-4260-97e5-d5cbbc3c9b8b
DTSTAMP:20260422T101740Z
DESCRIPTION:Please bring drinking water
DTSTART;TZID=America/Chicago:20291122T160000
DTEND;TZID=America/Chicago:20291122T170000
LOCATION:Firespring
SUMMARY:Walking Group
END:VEVENT
END:VCALENDAR
